BEGIN:VCALENDAR
VERSION:2.0
PRODID:-//Tukios.com/
BEGIN:VEVENT
UID:642ccf9b-e5b0-4d81-b37e-bf57deff03a0@www.silva-hostetler.com
DTSTAMP:20260424T180055Z
DTSTART:20260427T210000Z
DTEND:20260427T230000Z
SUMMARY:Visitation
DESCRIPTION:
URL:https://www.silva-hostetler.com/obituaries/dolores-wathey
LOCATION: 1199 Wooster Rd W  Barberton OH 44203
GEO:41.0077322;-81.6325232
END:VEVENT
END:VCALENDAR