BEGIN:VCALENDAR
VERSION:2.0
PRODID:-//Tukios.com/
BEGIN:VEVENT
UID:c145c639-afaa-4181-8dbb-f3d7a5648c21@www.silva-hostetler.com
DTSTAMP:20260424T175822Z
DTSTART:20260428T140000Z
DTEND:20260428T150000Z
SUMMARY:Mass
DESCRIPTION:
URL:https://www.silva-hostetler.com/obituaries/dolores-wathey
LOCATION: 4022 Johnson Rd  Norton OH 44203
GEO:41.0033471;-81.6674037
END:VEVENT
END:VCALENDAR