BEGIN:VCALENDAR
VERSION:2.0
PRODID:-//Tukios.com/
BEGIN:VEVENT
UID:f9fec92b-3fa2-4cdb-913c-1508df123bca@www.silva-hostetler.com
DTSTAMP:20260424T175928Z
DTSTART:20260428T151500Z
DTEND:20260428T154500Z
SUMMARY:Burial
DESCRIPTION:
URL:https://www.silva-hostetler.com/obituaries/dolores-wathey
LOCATION: 100 E Waterloo Rd  Akron OH 44319
GEO:41.0271933;-81.5219269
END:VEVENT
END:VCALENDAR